BEGIN:VCALENDAR
VERSION:2.0
PRODID:-//Papierliebe - ECPv6.15.20//NONSGML v1.0//EN
CALSCALE:GREGORIAN
METHOD:PUBLISH
X-WR-CALNAME:Papierliebe
X-ORIGINAL-URL:https://papier-design-flamme.de
X-WR-CALDESC:Veranstaltungen für Papierliebe
REFRESH-INTERVAL;VALUE=DURATION:PT1H
X-Robots-Tag:noindex
X-PUBLISHED-TTL:PT1H
BEGIN:VTIMEZONE
TZID:Europe/Berlin
BEGIN:DAYLIGHT
TZOFFSETFROM:+0100
TZOFFSETTO:+0200
TZNAME:CEST
DTSTART:20250330T010000
END:DAYLIGHT
BEGIN:STANDARD
TZOFFSETFROM:+0200
TZOFFSETTO:+0100
TZNAME:CET
DTSTART:20251026T010000
END:STANDARD
BEGIN:DAYLIGHT
TZOFFSETFROM:+0100
TZOFFSETTO:+0200
TZNAME:CEST
DTSTART:20260329T010000
END:DAYLIGHT
BEGIN:STANDARD
TZOFFSETFROM:+0200
TZOFFSETTO:+0100
TZNAME:CET
DTSTART:20261025T010000
END:STANDARD
BEGIN:DAYLIGHT
TZOFFSETFROM:+0100
TZOFFSETTO:+0200
TZNAME:CEST
DTSTART:20270328T010000
END:DAYLIGHT
BEGIN:STANDARD
TZOFFSETFROM:+0200
TZOFFSETTO:+0100
TZNAME:CET
DTSTART:20271031T010000
END:STANDARD
END:VTIMEZONE
BEGIN:VTIMEZONE
TZID:UTC
BEGIN:STANDARD
TZOFFSETFROM:+0000
TZOFFSETTO:+0000
TZNAME:UTC
DTSTART:20250101T000000
END:STANDARD
END:VTIMEZONE
BEGIN:VEVENT
DTSTART;TZID=Europe/Berlin:20260517T110000
DTEND;TZID=Europe/Berlin:20260517T150000
DTSTAMP:20260425T234033
CREATED:20260425T144504Z
LAST-MODIFIED:20260425T172021Z
UID:5367-1779015600-1779030000@papier-design-flamme.de
SUMMARY:Japanische Bindung Workshop
DESCRIPTION:Gestalte dein eigenes einzigartiges Notizbuch mit der faszinierenden japanischen Fadentechnik! In diesem Workshop lernst du Schritt für Schritt die traditionelle Bindetechnik kennen. Für Anfänger und Fortgeschrittene geeignet — alle Materialien sind inklusive. Du nimmst dein fertiges Werk direkt mit nach Hause. \nJetzt Platz sichern →
URL:https://papier-design-flamme.de/event/japanische-bindung-workshop/
LOCATION:Kreativ-Studio Taufkirchen\, Bergstraße 12\, Taufkirchen\, Bayern\, 82024\, Germany
ATTACH;FMTTYPE=image/jpeg:https://papier-design-flamme.de/wp-content/uploads/2026/04/japanische-bindung-workshop-muenchen-fertiges-buch.jpg
END:VEVENT
BEGIN:VEVENT
DTSTART;TZID=UTC:20260523T100000
DTEND;TZID=UTC:20260523T140000
DTSTAMP:20260425T234033
CREATED:20260425T175203Z
LAST-MODIFIED:20260425T175420Z
UID:5377-1779530400-1779544800@papier-design-flamme.de
SUMMARY:Koptische Bindung Workshop
DESCRIPTION:Gestalte dein eigenes Notizbuch mit der faszinierenden koptischen Bindung – eine der ältesten Buchbindetechniken der Welt\, entwickelt von den Kopten im alten Ägypten. Die offene Fadenheftung am Rücken macht jedes Buch zu einem echten Unikat. Für Anfänger und Fortgeschrittene geeignet — alle Materialien sind inklusive. Du nimmst dein fertiges Werk direkt mit nach Hause. \n Jetzt Platz sichern →
URL:https://papier-design-flamme.de/event/koptische-bindung-workshop/
ATTACH;FMTTYPE=image/jpeg:https://papier-design-flamme.de/wp-content/uploads/2026/02/Koptische-Bindung-2.jpg
END:VEVENT
END:VCALENDAR